BEGIN:VCALENDAR
VERSION:2.0
PRODID:-//Indiana NAHRO - ECPv6.14.0//NONSGML v1.0//EN
CALSCALE:GREGORIAN
METHOD:PUBLISH
X-WR-CALNAME:Indiana NAHRO
X-ORIGINAL-URL:https://innahro.org
X-WR-CALDESC:Events for Indiana NAHRO
REFRESH-INTERVAL;VALUE=DURATION:PT1H
X-Robots-Tag:noindex
X-PUBLISHED-TTL:PT1H
BEGIN:VTIMEZONE
TZID:UTC
BEGIN:STANDARD
TZOFFSETFROM:+0000
TZOFFSETTO:+0000
TZNAME:UTC
DTSTART:20240101T000000
END:STANDARD
END:VTIMEZONE
BEGIN:VEVENT
DTSTART;TZID=UTC:20240308T083000
DTEND;TZID=UTC:20240308T103000
DTSTAMP:20260423T164813
CREATED:20240214T232633Z
LAST-MODIFIED:20240214T232633Z
UID:435-1709886600-1709893800@innahro.org
SUMMARY:Women's Community Prayer Breakfast
DESCRIPTION:
URL:https://innahro.org/event/womens-community-prayer-breakfast/
LOCATION:The Anderson Impact Center\, 630 Nichol Avenue\, Anderson\, 46016\, United States
CATEGORIES:Meetings
ATTACH;FMTTYPE=image/jpeg:https://innahro.org/wp-content/uploads/2024/02/Womens-Prayer-Breakfast-2024.jpg
END:VEVENT
BEGIN:VEVENT
DTSTART;VALUE=DATE:20240319
DTEND;VALUE=DATE:20240401
DTSTAMP:20260423T164813
CREATED:20240319T194726Z
LAST-MODIFIED:20240319T194823Z
UID:466-1710806400-1711929599@innahro.org
SUMMARY:Happy Women's Month
DESCRIPTION:
URL:https://innahro.org/event/466/
CATEGORIES:Meetings
ATTACH;FMTTYPE=image/jpeg:https://innahro.org/wp-content/uploads/2024/03/womens-history.jpg
END:VEVENT
END:VCALENDAR