BEGIN:VCALENDAR
VERSION:2.0
PRODID:-//Indiana NAHRO - ECPv6.14.0//NONSGML v1.0//EN
CALSCALE:GREGORIAN
METHOD:PUBLISH
X-WR-CALNAME:Indiana NAHRO
X-ORIGINAL-URL:https://innahro.org
X-WR-CALDESC:Events for Indiana NAHRO
REFRESH-INTERVAL;VALUE=DURATION:PT1H
X-Robots-Tag:noindex
X-PUBLISHED-TTL:PT1H
BEGIN:VTIMEZONE
TZID:UTC
BEGIN:STANDARD
TZOFFSETFROM:+0000
TZOFFSETTO:+0000
TZNAME:UTC
DTSTART:20250101T000000
END:STANDARD
END:VTIMEZONE
BEGIN:VEVENT
DTSTART;VALUE=DATE:20250521
DTEND;VALUE=DATE:20250524
DTSTAMP:20260422T225435
CREATED:20250422T190215Z
LAST-MODIFIED:20250422T190215Z
UID:566-1747785600-1748044799@innahro.org
SUMMARY:Foundations of Life Coaching Summit
DESCRIPTION:
URL:https://innahro.org/event/foundations-of-life-coaching-summit/
END:VEVENT
BEGIN:VEVENT
DTSTART;VALUE=DATE:20250806
DTEND;VALUE=DATE:20250809
DTSTAMP:20260422T225435
CREATED:20250630T184851Z
LAST-MODIFIED:20250708T212323Z
UID:571-1754438400-1754697599@innahro.org
SUMMARY:ILNAHRO Illinois and Indiana's Joint Conference
DESCRIPTION:Event Registration \nVendor Registration \nVendor Registration
URL:https://innahro.org/event/ilnahro-illinois-and-indianas-joint-conference/
CATEGORIES:Conferences
END:VEVENT
BEGIN:VEVENT
DTSTART;TZID=UTC:20250911T093000
DTEND;TZID=UTC:20250911T120000
DTSTAMP:20260422T225435
CREATED:20250723T171143Z
LAST-MODIFIED:20250723T171143Z
UID:579-1757583000-1757592000@innahro.org
SUMMARY:8th Annual Landlord Symposium
DESCRIPTION:
URL:https://innahro.org/event/8th-annual-landlord-symposium/
LOCATION:The Anderson Impact Center\, 630 Nichol Avenue\, Anderson\, 46016\, United States
CATEGORIES:Meetings
END:VEVENT
BEGIN:VEVENT
DTSTART;VALUE=DATE:20260819
DTEND;VALUE=DATE:20260823
DTSTAMP:20260422T225435
CREATED:20240514T111804Z
LAST-MODIFIED:20240514T111804Z
UID:476-1787097600-1787443199@innahro.org
SUMMARY:2026 NCRC/IN NAHRO Conference
DESCRIPTION:
URL:https://innahro.org/event/2026-ncrc-in-nahro-conference/
END:VEVENT
END:VCALENDAR