BEGIN:VCALENDAR
VERSION:2.0
PRODID:-//Indiana NAHRO - ECPv6.14.0//NONSGML v1.0//EN
CALSCALE:GREGORIAN
METHOD:PUBLISH
X-WR-CALNAME:Indiana NAHRO
X-ORIGINAL-URL:https://innahro.org
X-WR-CALDESC:Events for Indiana NAHRO
REFRESH-INTERVAL;VALUE=DURATION:PT1H
X-Robots-Tag:noindex
X-PUBLISHED-TTL:PT1H
BEGIN:VTIMEZONE
TZID:UTC
BEGIN:STANDARD
TZOFFSETFROM:+0000
TZOFFSETTO:+0000
TZNAME:UTC
DTSTART:20240101T000000
END:STANDARD
END:VTIMEZONE
BEGIN:VEVENT
DTSTART;TZID=UTC:20240426T083000
DTEND;TZID=UTC:20240426T150000
DTSTAMP:20260423T223447
CREATED:20240215T004347Z
LAST-MODIFIED:20240415T163248Z
UID:457-1714120200-1714143600@innahro.org
SUMMARY:Anderson Fair Housing Coalition Annual Conference
DESCRIPTION:
URL:https://innahro.org/event/anderson-fair-housing-coalition-annual-conference/
LOCATION:AFC Community Center\, 2301 Meridian Street\, Anderson\, IN\, 46016
CATEGORIES:Conferences
ATTACH;FMTTYPE=image/jpeg:https://innahro.org/wp-content/uploads/2024/02/fair-housing-flyer.jpg
END:VEVENT
END:VCALENDAR