BEGIN:VCALENDAR
VERSION:2.0
PRODID:-//Indiana NAHRO - ECPv6.14.0//NONSGML v1.0//EN
CALSCALE:GREGORIAN
METHOD:PUBLISH
X-ORIGINAL-URL:https://innahro.org
X-WR-CALDESC:Events for Indiana NAHRO
REFRESH-INTERVAL;VALUE=DURATION:PT1H
X-Robots-Tag:noindex
X-PUBLISHED-TTL:PT1H
BEGIN:VTIMEZONE
TZID:UTC
BEGIN:STANDARD
TZOFFSETFROM:+0000
TZOFFSETTO:+0000
TZNAME:UTC
DTSTART:20250101T000000
END:STANDARD
END:VTIMEZONE
BEGIN:VEVENT
DTSTART;TZID=UTC:20250224T080000
DTEND;TZID=UTC:20250224T170000
DTSTAMP:20260423T015028
CREATED:20250224T152025Z
LAST-MODIFIED:20250224T152107Z
UID:561-1740384000-1740416400@innahro.org
SUMMARY:Women's Community Prayer Breakfast
DESCRIPTION:In Celebration of International Women’s Day 2025\nComing together to celebrate the accomplishments of women everywhere\, and to lift one another up in prayer for Today and the Future.\nMarch 7\, 2025 8:30 to 10:30 a.m.\n#AccelerateAction\nContact Angela Kaster with Questions@ akaster@ahain.org
URL:https://innahro.org/event/womens-community-prayer-breakfast-2/
CATEGORIES:Meetings
END:VEVENT
END:VCALENDAR